Package: xmapbridge Version: 1.66.0 Command: rm -rf xmapbridge.buildbin-libdir && mkdir xmapbridge.buildbin-libdir && /Users/biocbuild/BBS/utils/build-universal.sh xmapbridge_1.66.0.tar.gz /Library/Frameworks/R.framework/Resources/bin/R xmapbridge.buildbin-libdir StartedAt: 2025-10-14 15:04:22 -0400 (Tue, 14 Oct 2025) EndedAt: 2025-10-14 15:04:31 -0400 (Tue, 14 Oct 2025) EllapsedTime: 8.8 seconds RetCode: 0 Status: OK PackageFile: xmapbridge_1.66.0.tgz PackageFileSize: 1.762 MiB