Package: xmapbridge Version: 1.66.0 Command: /Library/Frameworks/R.framework/Resources/bin/R CMD INSTALL xmapbridge StartedAt: 2025-04-21 15:01:23 -0400 (Mon, 21 Apr 2025) EndedAt: 2025-04-21 15:01:28 -0400 (Mon, 21 Apr 2025) EllapsedTime: 5.0 seconds RetCode: 0 Status: OK