Package: xcms Version: 4.5.4 Command: /Library/Frameworks/R.framework/Resources/bin/R CMD check --install=check:xcms.install-out.txt --library=/Library/Frameworks/R.framework/Resources/library --no-vignettes --timings xcms_4.5.4.tar.gz StartedAt: 2025-04-10 00:25:44 -0400 (Thu, 10 Apr 2025) EndedAt: 2025-04-10 00:42:32 -0400 (Thu, 10 Apr 2025) EllapsedTime: 1008.7 seconds RetCode: 0 Status: OK CheckDir: xcms.Rcheck Warnings: 0