Package: wppi Version: 1.16.0 Command: /Library/Frameworks/R.framework/Resources/bin/R CMD build --keep-empty-dirs --no-resave-data wppi StartedAt: 2025-10-13 23:35:15 -0400 (Mon, 13 Oct 2025) EndedAt: 2025-10-13 23:38:51 -0400 (Mon, 13 Oct 2025) EllapsedTime: 215.1 seconds RetCode: 0 Status: OK PackageFile: wppi_1.16.0.tar.gz PackageFileSize: 646.9 KiB