Package: wpm Version: 1.20.0 Command: /Library/Frameworks/R.framework/Resources/bin/R CMD INSTALL wpm StartedAt: 2025-11-10 15:13:06 -0500 (Mon, 10 Nov 2025) EndedAt: 2025-11-10 15:13:08 -0500 (Mon, 10 Nov 2025) EllapsedTime: 2.2 seconds RetCode: 0 Status: OK