Package: wpm Version: 1.20.0 Command: /Library/Frameworks/R.framework/Resources/bin/R CMD build --keep-empty-dirs --no-resave-data wpm StartedAt: 2025-11-10 18:09:30 -0500 (Mon, 10 Nov 2025) EndedAt: 2025-11-10 18:09:39 -0500 (Mon, 10 Nov 2025) EllapsedTime: 9.1 seconds RetCode: 0 Status: OK PackageFile: wpm_1.20.0.tar.gz PackageFileSize: 2.415 MiB