Package: wpm Version: 1.20.0 Command: rm -rf wpm.buildbin-libdir && mkdir wpm.buildbin-libdir && /Users/biocbuild/BBS/utils/build-universal.sh wpm_1.20.0.tar.gz /Library/Frameworks/R.framework/Resources/bin/R wpm.buildbin-libdir StartedAt: 2025-11-10 23:41:07 -0500 (Mon, 10 Nov 2025) EndedAt: 2025-11-10 23:41:09 -0500 (Mon, 10 Nov 2025) EllapsedTime: 2.0 seconds RetCode: 0 Status: OK PackageFile: wpm_1.20.0.tgz PackageFileSize: 1.93 MiB