Package: weitrix Version: 1.21.0 Command: /home/biocbuild/R/R/bin/R CMD check --install=check:weitrix.install-out.txt --library=/home/biocbuild/R/R/site-library --no-vignettes --timings weitrix_1.21.0.tar.gz StartedAt: 2025-10-17 14:56:26 -0000 (Fri, 17 Oct 2025) EndedAt: 2025-10-17 15:02:10 -0000 (Fri, 17 Oct 2025) EllapsedTime: 344.3 seconds RetCode: 0 Status: OK CheckDir: weitrix.Rcheck Warnings: 0