Package: weitrix Version: 1.21.0 Command: /home/biocbuild/R/R/bin/R CMD build --keep-empty-dirs --no-resave-data weitrix StartedAt: 2025-10-21 04:05:19 -0000 (Tue, 21 Oct 2025) EndedAt: 2025-10-21 04:19:51 -0000 (Tue, 21 Oct 2025) EllapsedTime: 872.1 seconds RetCode: 0 Status: OK PackageFile: weitrix_1.21.0.tar.gz PackageFileSize: 5.84 MiB