Package: weitrix Version: 1.22.0 Command: /home/biocbuild/bbs-3.22-bioc/R/bin/R CMD build --keep-empty-dirs --no-resave-data --md5 weitrix StartedAt: 2025-11-05 20:55:05 -0500 (Wed, 05 Nov 2025) EndedAt: 2025-11-05 21:03:35 -0500 (Wed, 05 Nov 2025) EllapsedTime: 510.7 seconds RetCode: 0 Status: OK PackageFile: weitrix_1.22.0.tar.gz PackageFileSize: 9.487 MiB