Package: wavClusteR Version: 2.43.0 Command: /home/biocbuild/R/R/bin/R CMD check --install=check:wavClusteR.install-out.txt --library=/home/biocbuild/R/R/site-library --no-vignettes --timings wavClusteR_2.43.0.tar.gz StartedAt: 2025-10-17 14:55:53 -0000 (Fri, 17 Oct 2025) EndedAt: 2025-10-17 15:02:00 -0000 (Fri, 17 Oct 2025) EllapsedTime: 367.4 seconds RetCode: 0 Status: OK CheckDir: wavClusteR.Rcheck Warnings: 0