Package: wavClusteR Version: 2.43.0 Command: F:\biocbuild\bbs-3.22-bioc\R\bin\R.exe CMD check --no-multiarch --install=check:wavClusteR.install-out.txt --library=F:\biocbuild\bbs-3.22-bioc\R\library --no-vignettes --timings wavClusteR_2.43.0.tar.gz StartedAt: 2025-08-15 09:12:00 -0400 (Fri, 15 Aug 2025) EndedAt: 2025-08-15 09:18:03 -0400 (Fri, 15 Aug 2025) EllapsedTime: 363.5 seconds RetCode: 0 Status: OK CheckDir: wavClusteR.Rcheck Warnings: 0