Package: wavClusteR Version: 2.43.0 Command: chmod a+r wavClusteR -R && F:\biocbuild\bbs-3.22-bioc\R\bin\R.exe CMD build --keep-empty-dirs --no-resave-data wavClusteR StartedAt: 2025-08-15 00:00:00 -0400 (Fri, 15 Aug 2025) EndedAt: 2025-08-15 00:01:22 -0400 (Fri, 15 Aug 2025) EllapsedTime: 82.6 seconds RetCode: 0 Status: OK PackageFile: wavClusteR_2.43.0.tar.gz PackageFileSize: 470.4 KiB