Package: wavClusteR Version: 2.42.0 Command: /Library/Frameworks/R.framework/Resources/bin/R CMD check --install=check:wavClusteR.install-out.txt --library=/Library/Frameworks/R.framework/Resources/library --no-vignettes --timings wavClusteR_2.42.0.tar.gz StartedAt: 2025-10-14 12:16:40 -0400 (Tue, 14 Oct 2025) EndedAt: 2025-10-14 12:26:18 -0400 (Tue, 14 Oct 2025) EllapsedTime: 577.9 seconds RetCode: 0 Status: OK CheckDir: wavClusteR.Rcheck Warnings: 0