Package: wavClusteR Version: 2.42.0 Command: /Library/Frameworks/R.framework/Resources/bin/R CMD build --keep-empty-dirs --no-resave-data wavClusteR StartedAt: 2025-10-13 23:34:05 -0400 (Mon, 13 Oct 2025) EndedAt: 2025-10-13 23:36:17 -0400 (Mon, 13 Oct 2025) EllapsedTime: 132.4 seconds RetCode: 0 Status: OK PackageFile: wavClusteR_2.42.0.tar.gz PackageFileSize: 789.5 KiB