Package: wavClusteR Version: 2.42.0 Command: /Library/Frameworks/R.framework/Resources/bin/R CMD INSTALL wavClusteR StartedAt: 2025-04-21 15:20:22 -0400 (Mon, 21 Apr 2025) EndedAt: 2025-04-21 15:20:38 -0400 (Mon, 21 Apr 2025) EllapsedTime: 15.8 seconds RetCode: 0 Status: OK