Package: wavClusteR Version: 2.42.0 Command: /Library/Frameworks/R.framework/Resources/bin/R CMD build --keep-empty-dirs --no-resave-data wavClusteR StartedAt: 2025-04-21 17:59:02 -0400 (Mon, 21 Apr 2025) EndedAt: 2025-04-21 17:59:29 -0400 (Mon, 21 Apr 2025) EllapsedTime: 27.3 seconds RetCode: 0 Status: OK PackageFile: wavClusteR_2.42.0.tar.gz PackageFileSize: 789.9 KiB