Package: vulcan Version: 1.32.0 Command: /home/biocbuild/bbs-3.22-bioc/R/bin/R CMD check --install=check:vulcan.install-out.txt --library=/home/biocbuild/bbs-3.22-bioc/R/site-library --timings vulcan_1.32.0.tar.gz StartedAt: 2025-11-18 09:51:17 -0500 (Tue, 18 Nov 2025) EndedAt: 2025-11-18 09:58:40 -0500 (Tue, 18 Nov 2025) EllapsedTime: 443.4 seconds RetCode: 0 Status: OK CheckDir: vulcan.Rcheck Warnings: 0