Package: vulcan Version: 1.32.0 Command: /Library/Frameworks/R.framework/Resources/bin/R CMD INSTALL vulcan StartedAt: 2025-10-31 15:35:49 -0400 (Fri, 31 Oct 2025) EndedAt: 2025-10-31 15:36:13 -0400 (Fri, 31 Oct 2025) EllapsedTime: 24.6 seconds RetCode: 0 Status: OK