Package: vulcan Version: 1.32.0 Command: rm -rf vulcan.buildbin-libdir && mkdir vulcan.buildbin-libdir && /Users/biocbuild/BBS/utils/build-universal.sh vulcan_1.32.0.tar.gz /Library/Frameworks/R.framework/Resources/bin/R vulcan.buildbin-libdir StartedAt: 2025-11-02 23:25:54 -0500 (Sun, 02 Nov 2025) EndedAt: 2025-11-02 23:26:20 -0500 (Sun, 02 Nov 2025) EllapsedTime: 26.5 seconds RetCode: 0 Status: OK PackageFile: vulcan_1.32.0.tgz PackageFileSize: 464.2 KiB