Package: vtpnet Version: 0.48.0 Command: /home/biocbuild/R/R/bin/R CMD INSTALL vtpnet StartedAt: 2025-10-06 20:56:30 -0000 (Mon, 06 Oct 2025) EndedAt: 2025-10-06 20:57:39 -0000 (Mon, 06 Oct 2025) EllapsedTime: 69.0 seconds RetCode: 0 Status: OK