Package: vtpnet Version: 0.48.0 Command: /Library/Frameworks/R.framework/Resources/bin/R CMD INSTALL vtpnet StartedAt: 2025-04-21 15:20:48 -0400 (Mon, 21 Apr 2025) EndedAt: 2025-04-21 15:21:09 -0400 (Mon, 21 Apr 2025) EllapsedTime: 21.7 seconds RetCode: 0 Status: OK