Package: vtpnet Version: 0.48.0 Command: /Library/Frameworks/R.framework/Resources/bin/R CMD INSTALL vtpnet StartedAt: 2025-10-06 17:19:59 -0400 (Mon, 06 Oct 2025) EndedAt: 2025-10-06 17:21:02 -0400 (Mon, 06 Oct 2025) EllapsedTime: 63.2 seconds RetCode: 0 Status: OK