Package: vtpnet Version: 0.48.0 Command: /Library/Frameworks/R.framework/Resources/bin/R CMD check --install=check:vtpnet.install-out.txt --library=/Library/Frameworks/R.framework/Resources/library --no-vignettes --timings vtpnet_0.48.0.tar.gz StartedAt: 2025-10-08 18:59:27 -0400 (Wed, 08 Oct 2025) EndedAt: 2025-10-08 19:05:54 -0400 (Wed, 08 Oct 2025) EllapsedTime: 387.4 seconds RetCode: 0 Status: OK CheckDir: vtpnet.Rcheck Warnings: 0