Package: vsn Version: 3.76.0 Command: chmod a+r vsn -R && E:\biocbuild\bbs-3.21-bioc\R\bin\R.exe CMD build --keep-empty-dirs --no-resave-data vsn StartedAt: 2025-08-14 22:56:04 -0400 (Thu, 14 Aug 2025) EndedAt: 2025-08-14 22:57:27 -0400 (Thu, 14 Aug 2025) EllapsedTime: 82.8 seconds RetCode: 0 Status: OK PackageFile: vsn_3.76.0.tar.gz PackageFileSize: 1.304 MiB