Package: vsn Version: 3.76.0 Command: /Library/Frameworks/R.framework/Resources/bin/R CMD INSTALL vsn StartedAt: 2025-10-13 15:22:57 -0400 (Mon, 13 Oct 2025) EndedAt: 2025-10-13 15:23:26 -0400 (Mon, 13 Oct 2025) EllapsedTime: 28.9 seconds RetCode: 0 Status: OK