Package: vsn Version: 3.76.0 Command: rm -rf vsn.buildbin-libdir && mkdir vsn.buildbin-libdir && /Users/biocbuild/BBS/utils/build-universal.sh vsn_3.76.0.tar.gz /Library/Frameworks/R.framework/Resources/bin/R vsn.buildbin-libdir StartedAt: 2025-10-14 15:03:05 -0400 (Tue, 14 Oct 2025) EndedAt: 2025-10-14 15:03:38 -0400 (Tue, 14 Oct 2025) EllapsedTime: 33.5 seconds RetCode: 0 Status: OK PackageFile: vsn_3.76.0.tgz PackageFileSize: 2.511 MiB