Package: vsn Version: 3.76.0 Command: /Library/Frameworks/R.framework/Resources/bin/R CMD check --install=check:vsn.install-out.txt --library=/Library/Frameworks/R.framework/Resources/library --no-vignettes --timings vsn_3.76.0.tar.gz StartedAt: 2025-10-15 16:40:23 -0400 (Wed, 15 Oct 2025) EndedAt: 2025-10-15 16:41:41 -0400 (Wed, 15 Oct 2025) EllapsedTime: 78.8 seconds RetCode: 0 Status: OK CheckDir: vsn.Rcheck Warnings: 0