Package: vsclust Version: 1.10.0 Command: /Library/Frameworks/R.framework/Resources/bin/R CMD build --keep-empty-dirs --no-resave-data vsclust StartedAt: 2025-09-30 11:49:24 -0400 (Tue, 30 Sep 2025) EndedAt: 2025-09-30 11:51:56 -0400 (Tue, 30 Sep 2025) EllapsedTime: 151.4 seconds RetCode: 0 Status: OK PackageFile: vsclust_1.10.0.tar.gz PackageFileSize: 3.833 MiB