Package: vmrseq Version: 1.0.1 Command: /home/biocbuild/bbs-3.21-bioc/R/bin/R CMD check --install=check:vmrseq.install-out.txt --library=/home/biocbuild/bbs-3.21-bioc/R/site-library --timings vmrseq_1.0.1.tar.gz StartedAt: 2025-10-13 04:51:31 -0400 (Mon, 13 Oct 2025) EndedAt: 2025-10-13 04:57:48 -0400 (Mon, 13 Oct 2025) EllapsedTime: 377.4 seconds RetCode: 0 Status: OK CheckDir: vmrseq.Rcheck Warnings: 0