Package: vmrseq Version: 1.0.1 Command: /home/biocbuild/bbs-3.21-bioc/R/bin/R CMD build --keep-empty-dirs --no-resave-data vmrseq StartedAt: 2025-10-12 20:32:08 -0400 (Sun, 12 Oct 2025) EndedAt: 2025-10-12 20:33:32 -0400 (Sun, 12 Oct 2025) EllapsedTime: 84.1 seconds RetCode: 0 Status: OK PackageFile: vmrseq_1.0.1.tar.gz PackageFileSize: 3.336 MiB