Package: vmrseq Version: 1.0.1 Command: /home/biocbuild/R/R/bin/R CMD build --keep-empty-dirs --no-resave-data vmrseq StartedAt: 2025-10-07 05:34:15 -0000 (Tue, 07 Oct 2025) EndedAt: 2025-10-07 06:14:15 -0000 (Tue, 07 Oct 2025) EllapsedTime: 2400.0 seconds RetCode: None Status: TIMEOUT PackageFile: None PackageFileSize: NA