Package: vissE Version: 1.18.0 Command: /home/biocbuild/R/R/bin/R CMD INSTALL vissE StartedAt: 2025-11-17 21:45:43 -0000 (Mon, 17 Nov 2025) EndedAt: 2025-11-17 21:45:51 -0000 (Mon, 17 Nov 2025) EllapsedTime: 7.5 seconds RetCode: 0 Status: OK