Package: vissE Version: 1.18.0 Command: /home/biocbuild/R/R/bin/R CMD build --keep-empty-dirs --no-resave-data vissE StartedAt: 2025-11-18 06:05:20 -0000 (Tue, 18 Nov 2025) EndedAt: 2025-11-18 06:15:21 -0000 (Tue, 18 Nov 2025) EllapsedTime: 601.3 seconds RetCode: 0 Status: OK PackageFile: vissE_1.18.0.tar.gz PackageFileSize: 848.2 KiB