Package: vissE Version: 1.17.0 Command: chmod a+r vissE -R && F:\biocbuild\bbs-3.22-bioc\R\bin\R.exe CMD build --keep-empty-dirs --no-resave-data vissE StartedAt: 2025-08-14 23:57:22 -0400 (Thu, 14 Aug 2025) EndedAt: 2025-08-15 00:05:33 -0400 (Fri, 15 Aug 2025) EllapsedTime: 491.6 seconds RetCode: 0 Status: OK PackageFile: vissE_1.17.0.tar.gz PackageFileSize: 1000 KiB