Package: vissE Version: 1.16.0 Command: /Library/Frameworks/R.framework/Resources/bin/R CMD check --install=check:vissE.install-out.txt --library=/Library/Frameworks/R.framework/Resources/library --no-vignettes --timings vissE_1.16.0.tar.gz StartedAt: 2025-04-22 00:18:42 -0400 (Tue, 22 Apr 2025) EndedAt: 2025-04-22 00:20:54 -0400 (Tue, 22 Apr 2025) EllapsedTime: 132.4 seconds RetCode: 0 Status: OK CheckDir: vissE.Rcheck Warnings: 0