Package: vissE Version: 1.16.0 Command: rm -rf vissE.buildbin-libdir && mkdir vissE.buildbin-libdir && /Users/biocbuild/BBS/utils/build-universal.sh vissE_1.16.0.tar.gz /Library/Frameworks/R.framework/Resources/bin/R vissE.buildbin-libdir StartedAt: 2025-04-22 01:14:57 -0400 (Tue, 22 Apr 2025) EndedAt: 2025-04-22 01:15:07 -0400 (Tue, 22 Apr 2025) EllapsedTime: 10.4 seconds RetCode: 0 Status: OK PackageFile: vissE_1.16.0.tgz PackageFileSize: 1.784 MiB