Package: vissE Version: 1.16.0 Command: /home/biocbuild/R/R/bin/R CMD INSTALL vissE StartedAt: 2025-10-13 20:52:39 -0000 (Mon, 13 Oct 2025) EndedAt: 2025-10-13 20:52:46 -0000 (Mon, 13 Oct 2025) EllapsedTime: 7.4 seconds RetCode: 0 Status: OK