Package: vissE Version: 1.16.0 Command: /home/biocbuild/R/R/bin/R CMD build --keep-empty-dirs --no-resave-data vissE StartedAt: 2025-10-14 05:40:53 -0000 (Tue, 14 Oct 2025) EndedAt: 2025-10-14 05:57:58 -0000 (Tue, 14 Oct 2025) EllapsedTime: 1024.6 seconds RetCode: 0 Status: OK PackageFile: vissE_1.16.0.tar.gz PackageFileSize: 1.489 MiB