Package: vissE Version: 1.16.0 Command: /Library/Frameworks/R.framework/Resources/bin/R CMD build --keep-empty-dirs --no-resave-data vissE StartedAt: 2025-10-14 11:49:40 -0400 (Tue, 14 Oct 2025) EndedAt: 2025-10-14 11:56:24 -0400 (Tue, 14 Oct 2025) EllapsedTime: 404.1 seconds RetCode: 0 Status: OK PackageFile: vissE_1.16.0.tar.gz PackageFileSize: 1.653 MiB