Package: vissE Version: 1.16.0 Command: rm -rf vissE.buildbin-libdir && mkdir vissE.buildbin-libdir && /Users/biocbuild/BBS/utils/build-universal.sh vissE_1.16.0.tar.gz /Library/Frameworks/R.framework/Resources/bin/R vissE.buildbin-libdir StartedAt: 2025-10-15 21:00:16 -0400 (Wed, 15 Oct 2025) EndedAt: 2025-10-15 21:00:25 -0400 (Wed, 15 Oct 2025) EllapsedTime: 8.9 seconds RetCode: 0 Status: OK PackageFile: vissE_1.16.0.tgz PackageFileSize: 1.791 MiB