Package: visiumStitched Version: 1.2.0 Command: /home/biocbuild/bbs-3.22-bioc/R/bin/R CMD INSTALL visiumStitched StartedAt: 2025-11-20 16:48:36 -0500 (Thu, 20 Nov 2025) EndedAt: 2025-11-20 16:49:26 -0500 (Thu, 20 Nov 2025) EllapsedTime: 49.9 seconds RetCode: 0 Status: OK