Package: visiumStitched Version: 1.2.0 Command: /home/biocbuild/bbs-3.22-bioc/R/bin/R CMD check --install=check:visiumStitched.install-out.txt --library=/home/biocbuild/bbs-3.22-bioc/R/site-library --timings visiumStitched_1.2.0.tar.gz StartedAt: 2025-11-18 09:49:47 -0500 (Tue, 18 Nov 2025) EndedAt: 2025-11-18 10:06:06 -0500 (Tue, 18 Nov 2025) EllapsedTime: 979.3 seconds RetCode: 0 Status: OK CheckDir: visiumStitched.Rcheck Warnings: 0