Package: visiumStitched Version: 1.0.0 Command: /home/biocbuild/bbs-3.21-bioc/R/bin/R CMD INSTALL visiumStitched StartedAt: 2025-10-15 15:56:13 -0400 (Wed, 15 Oct 2025) EndedAt: 2025-10-15 15:57:02 -0400 (Wed, 15 Oct 2025) EllapsedTime: 49.9 seconds RetCode: 0 Status: OK