Package: visiumStitched Version: 1.0.0 Command: /home/biocbuild/bbs-3.21-bioc/R/bin/R CMD check --install=check:visiumStitched.install-out.txt --library=/home/biocbuild/bbs-3.21-bioc/R/site-library --timings visiumStitched_1.0.0.tar.gz StartedAt: 2025-10-16 04:46:28 -0400 (Thu, 16 Oct 2025) EndedAt: 2025-10-16 05:02:46 -0400 (Thu, 16 Oct 2025) EllapsedTime: 978.7 seconds RetCode: 0 Status: OK CheckDir: visiumStitched.Rcheck Warnings: 0