Package: visiumStitched Version: 1.0.0 Command: /Library/Frameworks/R.framework/Resources/bin/R CMD build --keep-empty-dirs --no-resave-data visiumStitched StartedAt: 2025-04-21 17:57:52 -0400 (Mon, 21 Apr 2025) EndedAt: 2025-04-21 18:00:06 -0400 (Mon, 21 Apr 2025) EllapsedTime: 133.5 seconds RetCode: 0 Status: OK PackageFile: visiumStitched_1.0.0.tar.gz PackageFileSize: 4.586 MiB