Package: visiumStitched Version: 1.0.0 Command: rm -rf visiumStitched.buildbin-libdir && mkdir visiumStitched.buildbin-libdir && /Users/biocbuild/BBS/utils/build-universal.sh visiumStitched_1.0.0.tar.gz /Library/Frameworks/R.framework/Resources/bin/R visiumStitched.buildbin-libdir StartedAt: 2025-04-21 22:56:31 -0400 (Mon, 21 Apr 2025) EndedAt: 2025-04-21 22:56:55 -0400 (Mon, 21 Apr 2025) EllapsedTime: 23.5 seconds RetCode: 0 Status: OK PackageFile: visiumStitched_1.0.0.tgz PackageFileSize: 4.644 MiB