Package: viper Version: 1.42.0 Command: chmod a+r viper -R && E:\biocbuild\bbs-3.21-bioc\R\bin\R.exe CMD build --keep-empty-dirs --no-resave-data viper StartedAt: 2025-08-14 22:54:34 -0400 (Thu, 14 Aug 2025) EndedAt: 2025-08-14 22:59:52 -0400 (Thu, 14 Aug 2025) EllapsedTime: 317.6 seconds RetCode: 0 Status: OK PackageFile: viper_1.42.0.tar.gz PackageFileSize: 314 KiB