Package: viper Version: 1.42.0 Command: rm -rf viper.buildbin-libdir && mkdir viper.buildbin-libdir && E:\biocbuild\bbs-3.21-bioc\R\bin\R.exe CMD INSTALL --build --library=viper.buildbin-libdir viper_1.42.0.tar.gz StartedAt: 2025-08-15 10:33:46 -0400 (Fri, 15 Aug 2025) EndedAt: 2025-08-15 10:34:18 -0400 (Fri, 15 Aug 2025) EllapsedTime: 31.4 seconds RetCode: 0 Status: OK PackageFile: viper_1.42.0.zip PackageFileSize: 575.6 KiB