Package: viper Version: 1.42.0 Command: rm -rf viper.buildbin-libdir && mkdir viper.buildbin-libdir && /Users/biocbuild/BBS/utils/build-universal.sh viper_1.42.0.tar.gz /Library/Frameworks/R.framework/Resources/bin/R viper.buildbin-libdir StartedAt: 2025-04-21 22:56:28 -0400 (Mon, 21 Apr 2025) EndedAt: 2025-04-21 22:56:35 -0400 (Mon, 21 Apr 2025) EllapsedTime: 6.2 seconds RetCode: 0 Status: OK PackageFile: viper_1.42.0.tgz PackageFileSize: 764.8 KiB